BEGIN:VCALENDAR
VERSION:2.0
PRODID:-//Date iCal//NONSGML kigkonsult.se iCalcreator 2.20.2//
METHOD:PUBLISH
BEGIN:VTIMEZONE
TZID:America/New_York
BEGIN:STANDARD
DTSTART:20251102T020000
TZOFFSETFROM:-0400
TZOFFSETTO:-0500
RDATE:20261101T020000
TZNAME:EST
END:STANDARD
BEGIN:DAYLIGHT
DTSTART:20260308T020000
TZOFFSETFROM:-0500
TZOFFSETTO:-0400
TZNAME:EDT
END:DAYLIGHT
END:VTIMEZONE
BEGIN:VEVENT
UID:calendar.26826.field_date_2.0@myccp.online
DTSTAMP:20260423T104848Z
CREATED:20260414T023233Z
DESCRIPTION:Join us to talk about the challenges and joys of identifying as
  Trans/Non-Binary/Gender-Nonconfoiming.\n\n\nHosted by: Women's Outreach &
  Advocacy Center\n\n\nAdditional Information can be found at: https://prid
 eportal.ccp.edu/event/12008655
DTSTART;TZID=America/New_York:20260420T143000
DTEND;TZID=America/New_York:20260427T153000
LAST-MODIFIED:20260414T023233Z
SUMMARY:Trans/Non-Binary/Gender-Noncomforming Support Group
URL;TYPE=URI:https://myccp.online/student-life-center/events/2026/04/27/tra
 nsnon-binarygender-noncomforming-support-group
END:VEVENT
END:VCALENDAR
